BEGIN:VCALENDAR
VERSION:2.0
PRODID:-//ΥΠΑΡΧΩ - ECPv6.15.20//NONSGML v1.0//EN
CALSCALE:GREGORIAN
METHOD:PUBLISH
X-WR-CALNAME:ΥΠΑΡΧΩ
X-ORIGINAL-URL:https://yparxo.org/en/
X-WR-CALDESC:Events for ΥΠΑΡΧΩ
REFRESH-INTERVAL;VALUE=DURATION:PT1H
X-Robots-Tag:noindex
X-PUBLISHED-TTL:PT1H
BEGIN:VTIMEZONE
TZID:UTC
BEGIN:STANDARD
TZOFFSETFROM:+0000
TZOFFSETTO:+0000
TZNAME:UTC
DTSTART:20240101T000000
END:STANDARD
END:VTIMEZONE
BEGIN:VEVENT
DTSTART;TZID=UTC:20250913T170000
DTEND;TZID=UTC:20250913T210000
DTSTAMP:20260421T110718
CREATED:20250916T170025Z
LAST-MODIFIED:20251117T121013Z
UID:44509-1757782800-1757797200@yparxo.org
SUMMARY:𝗔𝗰𝗰𝗲𝘀𝘀 𝗙𝗼𝗿 𝗔𝗹𝗹 𝗙𝗲𝘀𝘁𝗶𝘃𝗮𝗹 𝟮𝟬𝟮𝟱
DESCRIPTION:Tο Κέντρο Εκπαίδευσης και Αποκατάστασης @yparxo.organization είναι ο επίσημος Sports Partner του Access For All Festival 2025!\nΜαζί του\, θα ανακαλύψουμε και θα εξασκηθούμε στην πετοσφαίριση καθιστών\, στο μπάσκετ με αμαξίδιο\, στο τρέξιμο για τυφλούς και σε άλλες δραστηριότητες.
URL:https://yparxo.org/en/event/access-for-all-2/
ATTACH;FMTTYPE=image/jpeg:https://yparxo.org/wp-content/uploads/2025/11/524073934_740935722026061_2964577419826720184_n.jpg
END:VEVENT
END:VCALENDAR