BEGIN:VCALENDAR
VERSION:2.0
PRODID:-//ΥΠΑΡΧΩ - ECPv6.15.20//NONSGML v1.0//EN
CALSCALE:GREGORIAN
METHOD:PUBLISH
X-ORIGINAL-URL:https://yparxo.org/en/
X-WR-CALDESC:Events for ΥΠΑΡΧΩ
REFRESH-INTERVAL;VALUE=DURATION:PT1H
X-Robots-Tag:noindex
X-PUBLISHED-TTL:PT1H
BEGIN:VTIMEZONE
TZID:UTC
BEGIN:STANDARD
TZOFFSETFROM:+0000
TZOFFSETTO:+0000
TZNAME:UTC
DTSTART:20240101T000000
END:STANDARD
END:VTIMEZONE
BEGIN:VEVENT
DTSTART;VALUE=DATE:20250322
DTEND;VALUE=DATE:20250324
DTSTAMP:20260421T205848
CREATED:20250328T105938Z
LAST-MODIFIED:20250328T110334Z
UID:44303-1742601600-1742774399@yparxo.org
SUMMARY:LIMASSOL Marathon 2025
DESCRIPTION:
URL:https://yparxo.org/en/event/limassol-marathon-2025/
ATTACH;FMTTYPE=image/jpeg:https://yparxo.org/wp-content/uploads/2025/03/ab9cb34f-6252-43a2-acfb-c12886519c06-1.jpeg
END:VEVENT
END:VCALENDAR