BEGIN:VCALENDAR
VERSION:2.0
PRODID:-//ΥΠΑΡΧΩ - ECPv6.15.20//NONSGML v1.0//EN
CALSCALE:GREGORIAN
METHOD:PUBLISH
X-WR-CALNAME:ΥΠΑΡΧΩ
X-ORIGINAL-URL:https://yparxo.org/en/
X-WR-CALDESC:Events for ΥΠΑΡΧΩ
REFRESH-INTERVAL;VALUE=DURATION:PT1H
X-Robots-Tag:noindex
X-PUBLISHED-TTL:PT1H
BEGIN:VTIMEZONE
TZID:UTC
BEGIN:STANDARD
TZOFFSETFROM:+0000
TZOFFSETTO:+0000
TZNAME:UTC
DTSTART:20230101T000000
END:STANDARD
END:VTIMEZONE
BEGIN:VEVENT
DTSTART;VALUE=DATE:20241003
DTEND;VALUE=DATE:20241011
DTSTAMP:20260422T042945
CREATED:20241023T203735Z
LAST-MODIFIED:20241023T203735Z
UID:44185-1727913600-1728604799@yparxo.org
SUMMARY:ΕΒΔΟΜΑΔΑ ΠΡΟΣΒΑΣΙΜΟΤΗΤΑΣ!!!!
DESCRIPTION:Όταν η προσβασιμότητα είναι ψιλά γράμματα και η κοινωνία κάνει ότι δεν υπάρχουμε. \nΈλα όμως που… υπάρχουμε!
URL:https://yparxo.org/en/event/%ce%b5%ce%b2%ce%b4%ce%bf%ce%bc%ce%b1%ce%b4%ce%b1-%cf%80%cf%81%ce%bf%cf%83%ce%b2%ce%b1%cf%83%ce%b9%ce%bc%ce%bf%cf%84%ce%b7%cf%84%ce%b1%cf%83/
ATTACH;FMTTYPE=image/jpeg:https://yparxo.org/wp-content/uploads/2024/10/DSC01328.jpg
END:VEVENT
END:VCALENDAR