BEGIN:VCALENDAR
VERSION:2.0
PRODID:-//ΥΠΑΡΧΩ - ECPv6.15.20//NONSGML v1.0//EN
CALSCALE:GREGORIAN
METHOD:PUBLISH
X-WR-CALNAME:ΥΠΑΡΧΩ
X-ORIGINAL-URL:https://yparxo.org/en/
X-WR-CALDESC:Events for ΥΠΑΡΧΩ
REFRESH-INTERVAL;VALUE=DURATION:PT1H
X-Robots-Tag:noindex
X-PUBLISHED-TTL:PT1H
BEGIN:VTIMEZONE
TZID:UTC
BEGIN:STANDARD
TZOFFSETFROM:+0000
TZOFFSETTO:+0000
TZNAME:UTC
DTSTART:20230101T000000
END:STANDARD
END:VTIMEZONE
BEGIN:VEVENT
DTSTART;TZID=UTC:20240501T080000
DTEND;TZID=UTC:20240531T170000
DTSTAMP:20260422T125649
CREATED:20240328T140051Z
LAST-MODIFIED:20240328T183242Z
UID:42068-1714550400-1717174800@yparxo.org
SUMMARY:ROUND TABLE EVENT 2024
DESCRIPTION:
URL:https://yparxo.org/en/event/round-table-event-2024/
ATTACH;FMTTYPE=image/jpeg:https://yparxo.org/wp-content/uploads/2024/03/1000027822.jpg
END:VEVENT
END:VCALENDAR