BEGIN:VCALENDAR
VERSION:2.0
PRODID:-//ΥΠΑΡΧΩ - ECPv6.15.20//NONSGML v1.0//EN
CALSCALE:GREGORIAN
METHOD:PUBLISH
X-ORIGINAL-URL:https://yparxo.org/en/
X-WR-CALDESC:Events for ΥΠΑΡΧΩ
REFRESH-INTERVAL;VALUE=DURATION:PT1H
X-Robots-Tag:noindex
X-PUBLISHED-TTL:PT1H
BEGIN:VTIMEZONE
TZID:UTC
BEGIN:STANDARD
TZOFFSETFROM:+0000
TZOFFSETTO:+0000
TZNAME:UTC
DTSTART:20230101T000000
END:STANDARD
END:VTIMEZONE
BEGIN:VEVENT
DTSTART;TZID=UTC:20240413T080000
DTEND;TZID=UTC:20240414T170000
DTSTAMP:20260422T142057
CREATED:20240328T135916Z
LAST-MODIFIED:20240328T135916Z
UID:42065-1712995200-1713114000@yparxo.org
SUMMARY:OPAP Limassol Marathon
DESCRIPTION:
URL:https://yparxo.org/en/event/opap-limassol-marathon/
ATTACH;FMTTYPE=image/jpeg:https://yparxo.org/wp-content/uploads/2024/03/1000027820.jpg
END:VEVENT
BEGIN:VEVENT
DTSTART;TZID=UTC:20240413T080000
DTEND;TZID=UTC:20240414T200000
DTSTAMP:20260422T142057
CREATED:20240423T072503Z
LAST-MODIFIED:20240423T072503Z
UID:42153-1712995200-1713124800@yparxo.org
SUMMARY:MARATHON 2024
DESCRIPTION:Μεγάλη και Φέτος η συμμετοχή μας στον Μαραθώνιο Λεμεσου σε συνεργασία με το @ablebook 👌\nΑποδείξαμε και φέτος ότι ΥΠΑΡΧΟΥΜΕ και ΜΠΟΡΟΥΜΕ!\nΙδιαίτερες ευχαριστίες στον χορηγό μας για φέτος @maisson_property_club\, η βοήθεια σας για εμάς είναι πολύτιμη 🙏\nΕπίσης θα ήθελα να ευχαριστήσουμε τον κόσμο που μας βοήθησε και μας στηρίζει σε όλες τις διοργανώσεις που λαμβάνουμε μέρος\, το Υπαρχω χωρίς εσάς δεν θα μπορουσε να υπάρχει 🫶
URL:https://yparxo.org/en/event/marathon-2024/
ATTACH;FMTTYPE=image/jpeg:https://yparxo.org/wp-content/uploads/2024/04/SEB0131-scaled.jpg
END:VEVENT
END:VCALENDAR