BEGIN:VCALENDAR
VERSION:2.0
PRODID:-//ΥΠΑΡΧΩ - ECPv6.15.20//NONSGML v1.0//EN
CALSCALE:GREGORIAN
METHOD:PUBLISH
X-WR-CALNAME:ΥΠΑΡΧΩ
X-ORIGINAL-URL:https://yparxo.org/en/
X-WR-CALDESC:Events for ΥΠΑΡΧΩ
REFRESH-INTERVAL;VALUE=DURATION:PT1H
X-Robots-Tag:noindex
X-PUBLISHED-TTL:PT1H
BEGIN:VTIMEZONE
TZID:UTC
BEGIN:STANDARD
TZOFFSETFROM:+0000
TZOFFSETTO:+0000
TZNAME:UTC
DTSTART:20220101T000000
END:STANDARD
END:VTIMEZONE
BEGIN:VEVENT
DTSTART;TZID=UTC:20230429T100000
DTEND;TZID=UTC:20230429T170000
DTSTAMP:20260423T091402
CREATED:20231129T122550Z
LAST-MODIFIED:20240328T175700Z
UID:41550-1682762400-1682787600@yparxo.org
SUMMARY:Σεμινάριο «Σήκω\, Βγες & ΖΗΣΕ»
DESCRIPTION:Με μεγάλη χαρά και ικανοποίηση ολοκληρώθηκε το μεγάλο Σεμινάριο\, «Σήκω\, Βγες & ΖΗΣΕ»\, το οποίο διοργανώθηκε το Σάββατο\, 29/04 στο AJAX Hotel στην Λεμεσό από την PG Group of Companies. \n \n \n\n \n \nΚύριος ομιλητής του σεμιναρίου ήταν ο γνωστός Ελλαδίτης Motivational Speaker & Life Coach Κωνσταντίνος Λοϊζου. \n \n \nΕκλεκτός μας καλεσμένος ήταν ο Κύπριος executive coach Μιχάλης Πουλλής. Και οι δυο\, ένωσαν τις δυνάμεις τους και για 4\,5 και πλέον ώρες μπροστά σε 100 συνανθρώπους μας\, μοιράστηκαν τις σκέψεις και τις εμπειρίες τους. Κοινός παρονομαστής όλων είναι η αγάπη για ζωή. \n \n \nΠαράλληλα\, οι συμμετέχοντες του σεμιναρίου\, είχαν την ευκαιρία να θέσουν τις ερωτήσεις τους μέσα από μια εφαρμογή\, ανώνυμα\, και να φύγουν από αυτό το σεμινάριο με όλες τις απαντήσεις στις ερωτήσεις τους. Μια κίνηση που άφησε όλους τους συμμετέχοντες ικανοποιημένους. Το Σεμινάριο μας είχε και κοινωνικό αντίκτυπο καθώς μέρος των εσόδων από τα εισιτήρια που προ πωλήθηκαν\, χορηγίες αλλά και εισφορές κατά την διάρκεια του σεμιναρίου\, δόθηκαν στον Μη Κερδοσκοπικό Οργανισμό «Υπάρχω» για άτομα με αναπηρίες. Να σημειωθεί ότι το ποσό αυτό ανήλθε στα €2650. Ένα μικρό λιθαράκι σε αυτή την τεράστια προσπάθεια που καταβάλλουν !!! \n \n \n\n \n \nΑξίζει να σημειωθεί ότι μετά το πέρας του σεμιναρίου\, η διοργάνωση προσκάλεσε τα άτομα με αναπηρίες καθώς και τις οικογένειες τους σε ένα κλειστό event μαζί με τον Κωνσταντίνο Λοϊζου. Εκεί\, οι πρωταθλητές της ζωής\, τα μέλη του «Υπάρχω» μας έδειξαν για άλλη μια φορά ότι αυτοί είναι οι αληθινοί πρωταθλητές. \n \n \nΚλείνοντας\, επιθυμούμε να ευχαριστήσουμε τους μεγάλους μας χορηγούς: \n \n \n1PG | The Marketing Coach \n \n \nAthanasiou & Garpozis Developments \n \n \nCTL Eurocollege \n \n \nYiotia Antoniou Make Up Artist \n \n \nΚαθώς και όλους τους υποστηρικτές μας όπως και τους χορηγούς επικοινωνίας μας. 
URL:https://yparxo.org/en/event/%cf%83%ce%b5%ce%bc%ce%b9%ce%bd%ce%ac%cf%81%ce%b9%ce%bf-%cf%83%ce%ae%ce%ba%cf%89-%ce%b2%ce%b3%ce%b5%cf%82-%ce%b6%ce%b7%cf%83%ce%b5/
ATTACH;FMTTYPE=image/jpeg:https://yparxo.org/wp-content/uploads/2023/11/GMI_7035-scaled.jpg
END:VEVENT
END:VCALENDAR